BEGIN:VCALENDAR
VERSION:2.0
PRODID:-//UH UIT//Student Town Hall 2026//EN
BEGIN:VEVENT
UID:uit-student-townhall-20260408@uh.edu
DTSTAMP:20260326T123500Z
DTSTART;TZID=America/Chicago:20260408T180000
DTEND;TZID=America/Chicago:20260408T193000
SUMMARY:Student Town Hall - April 8, 2026 (6PM - 7:30PM)
DESCRIPTION:Meet with University Information Technology (UIT) to discuss the current state and future state of campus technology at UH.\n\nWe want student feedback on what technology and services you need to be successful at UH, what we can improve and address any issues you have related to our services. Bring your questions, concerns, frustrations and solutions! We want to hear from YOU!\n\nProposed topics include:\n• Digital Identity\n• UH Go\n• Wi-Fi\n• IVR\n• More...\n\nWe will have multiple prizes to give away!
LOCATION:Skyline Room, Student Center South
END:VEVENT
END:VCALENDAR